BEGIN:VCALENDAR
VERSION:2.0
PRODID:-//wp-events-plugin.com//7.2.3.1//EN
BEGIN:VEVENT
UID:5@ebedmelech.ac
DTSTART:20240807T060000Z
DTEND:20240807T070000Z
DTSTAMP:20240803T204746Z
URL:https://ebedmelech.ac/events/mid-week-prayer-wednesday-1200pm-cst-2024
 -08-07/
SUMMARY:Mid-Week Prayer Wednesday @ 12:00PM CST
DESCRIPTION:Mid-Week Prayer\nDate: Every Wednesday\nTime: 12:00 PM CST\nL
 ocation: Online (Zoom link will be provided upon registration)\nEvent Ove
 rview\nJoin us every Wednesday afternoon for Mid-Week Prayer\, a time dedi
 cated to reflection\, prayer\, and building a strong sense of community am
 ong Ebed-Melech University students and staff.\nWhat to Expect:\n\n 	Time 
 of Reflection: Pause from your busy week to reflect and recharge.\n 	Comm
 unity Prayer: Participate in collective prayer led by our spiritual leade
 rs.\n 	Connect with Others: Engage with fellow students and staff\, foste
 ring a supportive and uplifting community.\n 	Encouragement and Support: 
 Receive spiritual encouragement and support to help you through the week.\
 n\nWhy Attend?\n\n 	Experience a peaceful and refreshing break in the midd
 le of your week.\n 	Strengthen your spiritual journey and connect with lik
 e-minded individuals.\n 	Build a sense of community and belonging within E
 bed-Melech University.\n 	Gain encouragement and support from our spiritua
 l leaders and your peers.\n\nHow to Join:\nAttend event by clicking here.
  We look forward to coming together in prayer and community every Wednesd
 ay. Don’t miss this opportunity to connect\, reflect\, and find spiritua
 l renewal.
ATTACH;FMTTYPE=image/jpeg:https://ebedmelech.ac/wp-content/uploads/2024/06
 /pexels-karolina-grabowska-5311314-1-1.jpg
LOCATION:https://us06web.zoom.us/j/87159417938
END:VEVENT
BEGIN:VEVENT
UID:2@ebedmelech.ac
DTSTART:20240810T130000Z
DTEND:20240810T150000Z
DTSTAMP:20240809T011520Z
URL:https://ebedmelech.ac/events/mid-week-prayer-wednesday-1200pm-cst/
SUMMARY:Commencement @ 7:00 PM CST
DESCRIPTION:\nVirtual Commencement Ceremony\nDate: August 10th\nTime: 7:00 
 PM CST\nLocation: Live on our YouTube Channel\nEvent Overview\nCelebrate t
 he achievements of our first doctoral graduates at Ebed-Melech University'
 s inaugural Virtual Commencement Ceremony! Join us in honoring the hard wo
 rk\, dedication\, and success of our students as they reach this significa
 nt milestone.\nWhat to Expect:\n\n 	Welcome Address: Inspirational opening
  remarks from the President of Ebed-Melech University.\n 	Keynote Speaker:
  An esteemed guest speaker will share words of wisdom and encouragement.\n
  	Graduate Recognition: Individual recognition of each doctoral graduate a
 nd their accomplishments.\n 	Special Awards: Presentation of special award
 s and honors.\n 	Closing Remarks: A heartfelt message to the graduates as 
 they embark on their next journey.\n\nWhy Attend?\n\n 	Celebrate the dedic
 ation and achievements of our first doctoral graduates.\n 	Hear inspiring 
 speeches and messages from university leaders and special guests.\n 	Join 
 our community in recognizing and honoring the hard work and perseverance o
 f our students.\n 	Be part of a historic moment for Ebed-Melech University
 .\n\nHow to Watch:\nTune in to our YouTube channel at 7:00 PM CST on Augus
 t 10th. Don’t forget to subscribe to our channel to stay updated on futu
 re events and ceremonies.\n\nWe look forward to celebrating this momentous
  occasion with you. Join us live and be part of the excitement and pride a
 s we honor our graduates.\n\n\n\nFor any inquiries\, please contact us at 
 info@ebedmelech.ac.\nSubscribe to our YouTube channel and witness the firs
 t Virtual Commencement Ceremony of Ebed-Melech University. Let's celebrate
  together!
LOCATION:https://www.youtube.com/@Ebed-MelechUniversity
END:VEVENT
BEGIN:VEVENT
UID:1@ebedmelech.ac
DTSTART:20240828T130000Z
DTEND:20240830T140000Z
DTSTAMP:20240803T171615Z
URL:https://ebedmelech.ac/events/virtual-open-house/
SUMMARY:Virtual Open House @ 7:00 PM CST
DESCRIPTION:Virtual Open House for New &amp\; Prospective Students\nDates: 
 August 28\, 29\, &amp\; 30\nTime: 7:00 PM CST\nLocation: Online (Zoom link
  will be provided upon registration)\nEvent Overview\nEbed-Melech Universi
 ty (EMU) invites you to join our Virtual Open House! This is a fantastic o
 pportunity for prospective students to explore our diverse programs and di
 scover what makes EMU a unique and supportive learning community.\nWhat to
  Expect:\n\n 	Introduction to EMU: Learn about our mission\, values\, and 
 the online learning experience.\n 	Program Highlights: Detailed informatio
 n about our undergraduate\, graduate\, and doctoral programs.\n 	Meet the 
 Faculty: Engage with our passionate and dedicated faculty members.\n 	Stud
 ent Life: Insights into student support services\, extracurricular activit
 ies\, and community life.\n 	Admissions and Financial Aid: Guidance on the
  application process\, scholarships\, and financial aid options.\n 	Q&amp\
 ;A Session: Get your questions answered live by our admissions team and fa
 culty.\n\nWhy Attend?\n\n 	Gain a comprehensive understanding of the progr
 ams and opportunities available at EMU.\n 	Interact directly with faculty 
 and current students.\n 	Learn about the admissions process and how to mak
 e your application stand out.\n 	Discover how EMU supports students in ach
 ieving their academic and career goals.\n\nHow to Register:\nRegister for 
 the event by clicking here. Once registered\, you will receive a confirmat
 ion email with the Zoom link and further instructions.\n\nWe look forward 
 to meeting you and helping you embark on your academic journey with Ebed-M
 elech University. Don’t miss this chance to take the first step towards 
 your future!\n\n\n\nFor any inquiries\, please contact us at enrollment@eb
 edmelech.ac.\nSeize the opportunity to become a part of our vibrant and gr
 owing community. We can't wait to welcome you to Ebed-Melech University!
ATTACH;FMTTYPE=image/jpeg:https://ebedmelech.ac/wp-content/uploads/2024/08
 /pexels-pnw-prod-7061959-edited.jpg
LOCATION:https://us06web.zoom.us/meeting/register/tZEldO6sqDkvHtG1JB6cM4pIL
 Fy-JxvzMPik
END:VEVENT
BEGIN:VEVENT
UID:6@ebedmelech.ac
DTSTART:20240917T180000Z
DTEND:20240917T180000Z
DTSTAMP:20240913T131837Z
URL:https://ebedmelech.ac/events/wednesday-prayer-circle/
SUMMARY:Wednesday Prayer Circle
DESCRIPTION:\n\nJoin us for our Discord Praise and Worship Forum every Wedn
 esday at 12:00 PM for a time of unified prayer and encouragement! This is 
 a space for our community to come together in fellowship\, share prayers\,
  offer support\, and uplift each other in faith.\n\nJoin here! https://dis
 cord.gg/25XEWKrx\n\n&nbsp\;
END:VEVENT
BEGIN:VEVENT
UID:7@ebedmelech.ac
DTSTART:20250508T130000Z
DTEND:20250508T140000Z
DTSTAMP:20250310T181052Z
URL:https://ebedmelech.ac/events/spring-2025-commencement/
SUMMARY:Spring 2025 Commencement
DESCRIPTION:
LOCATION:Virtual\, Virtual\, St. Petersburg\,\, FL\, 33702\, United States
X-APPLE-STRUCTURED-LOCATION;VALUE=URI;X-ADDRESS=Virtual\, St. Petersburg\,\
 , FL\, 33702\, United States;X-APPLE-RADIUS=100;X-TITLE=Virtual:geo:0,0
END:VEVENT
BEGIN:VEVENT
UID:8@ebedmelech.ac
DTSTART:20250830T040000Z
DTEND:20250830T080000Z
DTSTAMP:20250519T102242Z
URL:https://ebedmelech.ac/events/new-student-orientation/
SUMMARY:New Student Orientation
DESCRIPTION:\nNew Student Orientation\nEbed-Melech University\nWelcome to t
 he Lion's Den! We are excited to welcome our new students as you begin you
 r journey of purpose\, leadership\, and kingdom impact. Orientation is des
 igned to give you the tools\, information\, and encouragement you need to 
 thrive as a student at Ebed-Melech University.\n\n\n\n\nDate:\nFriday\, Au
 gust 30\, 2025\n\nTime:\n10:00 AM – 2:00 PM (Central Time)\n\nLocation:\
 nLive via Zoom (link will be emailed upon registration)\n\nWhat to Expect:
 \n\n 	Meet the President and Leadership Team\n 	Learn how to access your c
 ourses and submit assignments\n 	Overview of student portals and support s
 ervices\n 	Kingdom Exchange Session: Vision &amp\; Mission of EMU\n 	Live 
 Q&amp\;A with faculty and returning students\n\nWho Should Attend:\nAll ne
 wly admitted undergraduate\, graduate\, and doctoral students for the Fall
  2025 term.\n\nHow to Register:\nPlease confirm your attendance by registe
 ring via your student portal or email orientation@ebedmelech.ac.\n\n\n\n
 “Write the vision and make it plain...” — Habakkuk 2:2\nWe can’t w
 ait to welcome you to Ebed-Melech University!\n\n
END:VEVENT
BEGIN:VEVENT
UID:14@ebedmelech.ac
DTSTART:20260611T123000Z
DTEND:20260611T123000Z
DTSTAMP:20251006T163408Z
URL:https://ebedmelech.ac/events/thursday-night-chapel-5/
SUMMARY:Thursday Night Chapel
DESCRIPTION:\nThursday Night Chapel\nWith Dr. Kahla D. LaPlante\nLead Chapl
 ain\, Blessed R Thee Ministry\nJoin us every Thursday evening at 6:30 PM (
 Central Time) for a time of spiritual renewal\, encouragement\, and commun
 ity as we gather together in worship\, word\, and prayer.\n\n\n\n\nStreami
 ng Live:\nWatch weekly on the Moments of Inspiration YouTube Channel:\n\nh
 ttps://www.youtube.com/@BRTM_MOI\n\nWhat to Expect:\n\n 	Spirit-filled wor
 ship and prayer\n 	Biblically grounded messages\n 	Encouragement for your 
 academic and personal journey\n 	Opportunities to share testimonies and re
 flect\n\nOpen to all Ebed-Melech University students\, alumni\, and commun
 ity members. Come as you are. Let God do the rest.\n\n\n\n“For where two
  or three are gathered in my name\, there am I with them.” — Matthew 1
 8:20\nWe look forward to seeing you this Thursday night.\n\n
END:VEVENT
END:VCALENDAR